BEGIN:VCALENDAR
VERSION:2.0
PRODID:-//JDB Creations - ECPv6.15.11//NONSGML v1.0//EN
CALSCALE:GREGORIAN
METHOD:PUBLISH
X-WR-CALNAME:JDB Creations
X-ORIGINAL-URL:https://www.jdbcreationsbyjoshua.com
X-WR-CALDESC:Events for JDB Creations
REFRESH-INTERVAL;VALUE=DURATION:PT1H
X-Robots-Tag:noindex
X-PUBLISHED-TTL:PT1H
BEGIN:VTIMEZONE
TZID:America/New_York
BEGIN:DAYLIGHT
TZOFFSETFROM:-0500
TZOFFSETTO:-0400
TZNAME:EDT
DTSTART:20230312T070000
END:DAYLIGHT
BEGIN:STANDARD
TZOFFSETFROM:-0400
TZOFFSETTO:-0500
TZNAME:EST
DTSTART:20231105T060000
END:STANDARD
BEGIN:DAYLIGHT
TZOFFSETFROM:-0500
TZOFFSETTO:-0400
TZNAME:EDT
DTSTART:20240310T070000
END:DAYLIGHT
BEGIN:STANDARD
TZOFFSETFROM:-0400
TZOFFSETTO:-0500
TZNAME:EST
DTSTART:20241103T060000
END:STANDARD
BEGIN:DAYLIGHT
TZOFFSETFROM:-0500
TZOFFSETTO:-0400
TZNAME:EDT
DTSTART:20250309T070000
END:DAYLIGHT
BEGIN:STANDARD
TZOFFSETFROM:-0400
TZOFFSETTO:-0500
TZNAME:EST
DTSTART:20251102T060000
END:STANDARD
END:VTIMEZONE
BEGIN:VEVENT
DTSTART;TZID=America/New_York:20240224T100000
DTEND;TZID=America/New_York:20240224T140000
DTSTAMP:20260424T151346
CREATED:20240109T004325Z
LAST-MODIFIED:20240109T004325Z
UID:3283-1708768800-1708783200@www.jdbcreationsbyjoshua.com
SUMMARY:Northampton Winter Farmer's Market
DESCRIPTION:Come and see me at the Northampton Winter Market where I will be selling my Handcrafted Jewelry. I have lots of new designs that I have been creating with an have come out very nicely.
URL:https://www.jdbcreationsbyjoshua.com/event/northampton-winter-farmers-market-3/
LOCATION:Northampton Winter Market\, 67 Conz St\, Northampton\, MA\, 01060\, United States
ATTACH;FMTTYPE=image/png:https://www.jdbcreationsbyjoshua.com/wp-content/uploads/2024/01/2023-2024-winter-market-banner-2.png
END:VEVENT
END:VCALENDAR