BEGIN:VCALENDAR
VERSION:2.0
PRODID:-//JDB Creations - ECPv6.15.11//NONSGML v1.0//EN
CALSCALE:GREGORIAN
METHOD:PUBLISH
X-WR-CALNAME:JDB Creations
X-ORIGINAL-URL:https://www.jdbcreationsbyjoshua.com
X-WR-CALDESC:Events for JDB Creations
REFRESH-INTERVAL;VALUE=DURATION:PT1H
X-Robots-Tag:noindex
X-PUBLISHED-TTL:PT1H
BEGIN:VTIMEZONE
TZID:America/New_York
BEGIN:DAYLIGHT
TZOFFSETFROM:-0500
TZOFFSETTO:-0400
TZNAME:EDT
DTSTART:20230312T070000
END:DAYLIGHT
BEGIN:STANDARD
TZOFFSETFROM:-0400
TZOFFSETTO:-0500
TZNAME:EST
DTSTART:20231105T060000
END:STANDARD
BEGIN:DAYLIGHT
TZOFFSETFROM:-0500
TZOFFSETTO:-0400
TZNAME:EDT
DTSTART:20240310T070000
END:DAYLIGHT
BEGIN:STANDARD
TZOFFSETFROM:-0400
TZOFFSETTO:-0500
TZNAME:EST
DTSTART:20241103T060000
END:STANDARD
BEGIN:DAYLIGHT
TZOFFSETFROM:-0500
TZOFFSETTO:-0400
TZNAME:EDT
DTSTART:20250309T070000
END:DAYLIGHT
BEGIN:STANDARD
TZOFFSETFROM:-0400
TZOFFSETTO:-0500
TZNAME:EST
DTSTART:20251102T060000
END:STANDARD
END:VTIMEZONE
BEGIN:VEVENT
DTSTART;TZID=America/New_York:20240406T100000
DTEND;TZID=America/New_York:20240406T160000
DTSTAMP:20260424T124519
CREATED:20240218T150212Z
LAST-MODIFIED:20240328T143049Z
UID:3359-1712397600-1712419200@www.jdbcreationsbyjoshua.com
SUMMARY:Framingham Rotary Craft Fair
DESCRIPTION:Once again JDB Creations by Joshua I’ll be selling  jewelry at Keefe Tech in Framingham Massachusetts at The annual Spring Rotary Club Craft Fair.  I will have lots of new spring baby leaf earrings. Shop early all earrings are one of kind created using real leaves as a template.
URL:https://www.jdbcreationsbyjoshua.com/event/framingham-rotary-craft-fair/
ATTACH;FMTTYPE=image/jpeg:https://www.jdbcreationsbyjoshua.com/wp-content/uploads/2024/02/IMG_0916.jpeg
END:VEVENT
END:VCALENDAR