BEGIN:VCALENDAR
VERSION:2.0
PRODID:-//JDB Creations - ECPv6.15.11//NONSGML v1.0//EN
CALSCALE:GREGORIAN
METHOD:PUBLISH
X-ORIGINAL-URL:https://www.jdbcreationsbyjoshua.com
X-WR-CALDESC:Events for JDB Creations
REFRESH-INTERVAL;VALUE=DURATION:PT1H
X-Robots-Tag:noindex
X-PUBLISHED-TTL:PT1H
BEGIN:VTIMEZONE
TZID:America/New_York
BEGIN:DAYLIGHT
TZOFFSETFROM:-0500
TZOFFSETTO:-0400
TZNAME:EDT
DTSTART:20230312T070000
END:DAYLIGHT
BEGIN:STANDARD
TZOFFSETFROM:-0400
TZOFFSETTO:-0500
TZNAME:EST
DTSTART:20231105T060000
END:STANDARD
BEGIN:DAYLIGHT
TZOFFSETFROM:-0500
TZOFFSETTO:-0400
TZNAME:EDT
DTSTART:20240310T070000
END:DAYLIGHT
BEGIN:STANDARD
TZOFFSETFROM:-0400
TZOFFSETTO:-0500
TZNAME:EST
DTSTART:20241103T060000
END:STANDARD
BEGIN:DAYLIGHT
TZOFFSETFROM:-0500
TZOFFSETTO:-0400
TZNAME:EDT
DTSTART:20250309T070000
END:DAYLIGHT
BEGIN:STANDARD
TZOFFSETFROM:-0400
TZOFFSETTO:-0500
TZNAME:EST
DTSTART:20251102T060000
END:STANDARD
END:VTIMEZONE
BEGIN:VEVENT
DTSTART;TZID=America/New_York:20240505T110000
DTEND;TZID=America/New_York:20240505T190000
DTSTAMP:20260424T112528
CREATED:20240417T020929Z
LAST-MODIFIED:20240501T102708Z
UID:3517-1714906800-1714935600@www.jdbcreationsbyjoshua.com
SUMMARY:Enchanted Orchard Renaissance Fair
DESCRIPTION:HEAR YE! HEAR YE!\nCome and join me and see my Handcrafted jewelry as you journey to Red Apple Farm on May 4th & 5th and enter an enchanted realm of merriment and revelry. Come enjoy the renaissance of spring at Enchanted Orchard where unearthly delights abound and the magic of nature is a marvel to behold. \nMerchants from distant kingdoms and folk from near and far gather in celebration of May Day and the planting season which springs life anew each year. Quest with knights\, sing with pirates\, dance with witches\, frolic with the fairies\, adventure with Vikings\, hide from trolls\, and feast like royalty at Enchanted Orchard Renaissance Faire! \nA world of wonder awaits.
URL:https://www.jdbcreationsbyjoshua.com/event/enchanted-orchard-renaissance-fair-2/
LOCATION:Red Apple Farm\, 455 Highland Ave\, Phillipston\, MA\, 01331\, United States
ATTACH;FMTTYPE=image/jpeg:https://www.jdbcreationsbyjoshua.com/wp-content/uploads/2024/04/Enchanted-Orchard-Flyer-Final21_page_1.jpeg
END:VEVENT
END:VCALENDAR