BEGIN:VCALENDAR
VERSION:2.0
PRODID:-//JDB Creations - ECPv6.15.11//NONSGML v1.0//EN
CALSCALE:GREGORIAN
METHOD:PUBLISH
X-WR-CALNAME:JDB Creations
X-ORIGINAL-URL:https://www.jdbcreationsbyjoshua.com
X-WR-CALDESC:Events for JDB Creations
REFRESH-INTERVAL;VALUE=DURATION:PT1H
X-Robots-Tag:noindex
X-PUBLISHED-TTL:PT1H
BEGIN:VTIMEZONE
TZID:America/New_York
BEGIN:DAYLIGHT
TZOFFSETFROM:-0500
TZOFFSETTO:-0400
TZNAME:EDT
DTSTART:20230312T070000
END:DAYLIGHT
BEGIN:STANDARD
TZOFFSETFROM:-0400
TZOFFSETTO:-0500
TZNAME:EST
DTSTART:20231105T060000
END:STANDARD
BEGIN:DAYLIGHT
TZOFFSETFROM:-0500
TZOFFSETTO:-0400
TZNAME:EDT
DTSTART:20240310T070000
END:DAYLIGHT
BEGIN:STANDARD
TZOFFSETFROM:-0400
TZOFFSETTO:-0500
TZNAME:EST
DTSTART:20241103T060000
END:STANDARD
BEGIN:DAYLIGHT
TZOFFSETFROM:-0500
TZOFFSETTO:-0400
TZNAME:EDT
DTSTART:20250309T070000
END:DAYLIGHT
BEGIN:STANDARD
TZOFFSETFROM:-0400
TZOFFSETTO:-0500
TZNAME:EST
DTSTART:20251102T060000
END:STANDARD
END:VTIMEZONE
BEGIN:VEVENT
DTSTART;TZID=America/New_York:20240609T120000
DTEND;TZID=America/New_York:20240609T180000
DTSTAMP:20260424T100540
CREATED:20240315T225951Z
LAST-MODIFIED:20240315T225951Z
UID:3451-1717934400-1717956000@www.jdbcreationsbyjoshua.com
SUMMARY:Celebrate West Hartford
DESCRIPTION:JDB Creations by Joshua will be at The Celebrate! West Hartford Arts & Crafts Show held on the beautiful Town Hall Common in West Hartford\, CT attracts master artists from Connecticut\, the greater New England region and many eastern states including Tennessee and Florida. The juried show prides itself on its creative mixture of long-term exhibitors with devoted followers and newly accepted artisans showcasing their work to our supportive community. Nearly 40\,000 visitors attend the event each year which has repeatedly garnered prestigious awards from Sunshine Artists\, Hartford Magazine-Best of Hartford and more.
URL:https://www.jdbcreationsbyjoshua.com/event/celebrate-west-hartford-4/
LOCATION:West Hartford Town Hall\, 50 Main St\, West Hartford\, CT\, 06107\, United States
ATTACH;FMTTYPE=image/webp:https://www.jdbcreationsbyjoshua.com/wp-content/uploads/2024/03/craftlogo.webp
END:VEVENT
END:VCALENDAR