BEGIN:VCALENDAR
VERSION:2.0
PRODID:-//JDB Creations - ECPv6.15.11//NONSGML v1.0//EN
CALSCALE:GREGORIAN
METHOD:PUBLISH
X-WR-CALNAME:JDB Creations
X-ORIGINAL-URL:https://www.jdbcreationsbyjoshua.com
X-WR-CALDESC:Events for JDB Creations
REFRESH-INTERVAL;VALUE=DURATION:PT1H
X-Robots-Tag:noindex
X-PUBLISHED-TTL:PT1H
BEGIN:VTIMEZONE
TZID:America/New_York
BEGIN:DAYLIGHT
TZOFFSETFROM:-0500
TZOFFSETTO:-0400
TZNAME:EDT
DTSTART:20230312T070000
END:DAYLIGHT
BEGIN:STANDARD
TZOFFSETFROM:-0400
TZOFFSETTO:-0500
TZNAME:EST
DTSTART:20231105T060000
END:STANDARD
BEGIN:DAYLIGHT
TZOFFSETFROM:-0500
TZOFFSETTO:-0400
TZNAME:EDT
DTSTART:20240310T070000
END:DAYLIGHT
BEGIN:STANDARD
TZOFFSETFROM:-0400
TZOFFSETTO:-0500
TZNAME:EST
DTSTART:20241103T060000
END:STANDARD
BEGIN:DAYLIGHT
TZOFFSETFROM:-0500
TZOFFSETTO:-0400
TZNAME:EDT
DTSTART:20250309T070000
END:DAYLIGHT
BEGIN:STANDARD
TZOFFSETFROM:-0400
TZOFFSETTO:-0500
TZNAME:EST
DTSTART:20251102T060000
END:STANDARD
END:VTIMEZONE
BEGIN:VEVENT
DTSTART;TZID=America/New_York:20240719T160000
DTEND;TZID=America/New_York:20240719T210000
DTSTAMP:20260424T084537
CREATED:20240419T220235Z
LAST-MODIFIED:20240419T220235Z
UID:3538-1721404800-1721422800@www.jdbcreationsbyjoshua.com
SUMMARY:Worcester Center for Crafts “Hot night in the City”
DESCRIPTION:Join myself and other Artists selling our Crafts at\nHot Night in the City\n\n\n\n\nCelebrating the “hot” processes and traditions of craft creation\, the Worcester Center for Crafts’ Hot Night in the City practically combusts each summer with music\, food\, drinks\, the opening of an exhibit\, and fun around the flames. All are welcome as we explore the hot processes of craft in and outside of the Center. \nThe dusk darkness dissipates as Craft Center artists demonstrate their profession in our studios. There is a lot of hands-on fun for the fearless and demonstrations for the appreciator. We hold Hot Night in the City rain or shine.
URL:https://www.jdbcreationsbyjoshua.com/event/worcester-center-for-crafts-hot-night-in-the-city/
LOCATION:Worcester Center for Crafts\, 25 Sagamore Road\, Worcester\, MA\, 01605\, United States
ATTACH;FMTTYPE=image/jpeg:https://www.jdbcreationsbyjoshua.com/wp-content/uploads/2024/04/IMG_1021.jpeg
END:VEVENT
END:VCALENDAR