BEGIN:VCALENDAR
VERSION:2.0
PRODID:-//JDB Creations - ECPv6.15.11//NONSGML v1.0//EN
CALSCALE:GREGORIAN
METHOD:PUBLISH
X-WR-CALNAME:JDB Creations
X-ORIGINAL-URL:https://www.jdbcreationsbyjoshua.com
X-WR-CALDESC:Events for JDB Creations
REFRESH-INTERVAL;VALUE=DURATION:PT1H
X-Robots-Tag:noindex
X-PUBLISHED-TTL:PT1H
BEGIN:VTIMEZONE
TZID:America/New_York
BEGIN:DAYLIGHT
TZOFFSETFROM:-0500
TZOFFSETTO:-0400
TZNAME:EDT
DTSTART:20230312T070000
END:DAYLIGHT
BEGIN:STANDARD
TZOFFSETFROM:-0400
TZOFFSETTO:-0500
TZNAME:EST
DTSTART:20231105T060000
END:STANDARD
BEGIN:DAYLIGHT
TZOFFSETFROM:-0500
TZOFFSETTO:-0400
TZNAME:EDT
DTSTART:20240310T070000
END:DAYLIGHT
BEGIN:STANDARD
TZOFFSETFROM:-0400
TZOFFSETTO:-0500
TZNAME:EST
DTSTART:20241103T060000
END:STANDARD
BEGIN:DAYLIGHT
TZOFFSETFROM:-0500
TZOFFSETTO:-0400
TZNAME:EDT
DTSTART:20250309T070000
END:DAYLIGHT
BEGIN:STANDARD
TZOFFSETFROM:-0400
TZOFFSETTO:-0500
TZNAME:EST
DTSTART:20251102T060000
END:STANDARD
END:VTIMEZONE
BEGIN:VEVENT
DTSTART;TZID=America/New_York:20240302T100000
DTEND;TZID=America/New_York:20240302T170000
DTSTAMP:20260424T124641
CREATED:20231212T044704Z
LAST-MODIFIED:20231212T044704Z
UID:3221-1709373600-1709398800@www.jdbcreationsbyjoshua.com
SUMMARY:Old Deerfield Spring Sampler
DESCRIPTION:Come and check out my Booth at The Old Deerfield Spring Sampler being held in The Young Building at The Eastern States Exhibition. I will have some new Fig Leaf Earrings created using a real Fig Leaf as a template.
URL:https://www.jdbcreationsbyjoshua.com/event/old-deerfield-spring-sampler/
LOCATION:Old Deerfield Spring Sampler\, 875 Memorial Ave.\, West Springfield\, MA\, 01089\, United States
END:VEVENT
BEGIN:VEVENT
DTSTART;TZID=America/New_York:20240303T100000
DTEND;TZID=America/New_York:20240303T160000
DTSTAMP:20260424T124641
CREATED:20231212T050308Z
LAST-MODIFIED:20231212T050308Z
UID:3225-1709460000-1709481600@www.jdbcreationsbyjoshua.com
SUMMARY:Old Deerfield Spring Sampler
DESCRIPTION:Come and check out my Booth at The Old Deerfield Spring Sampler being held in The Young Building at The Eastern States Exhibition. I will have some new Fig Leaf Earrings created using a real Fig Leaf as a template.
URL:https://www.jdbcreationsbyjoshua.com/event/old-deerfield-spring-sampler-2/
LOCATION:Old Deerfield Spring Sampler\, 875 Memorial Ave.\, West Springfield\, MA\, 01089\, United States
END:VEVENT
BEGIN:VEVENT
DTSTART;TZID=America/New_York:20240315T080000
DTEND;TZID=America/New_York:20240315T170000
DTSTAMP:20260424T124641
CREATED:20240315T222046Z
LAST-MODIFIED:20240315T222046Z
UID:3440-1710489600-1710522000@www.jdbcreationsbyjoshua.com
SUMMARY:Celebrate West Hartford
DESCRIPTION:
URL:https://www.jdbcreationsbyjoshua.com/event/celebrate-west-hartford/
END:VEVENT
BEGIN:VEVENT
DTSTART;TZID=America/New_York:20240316T100000
DTEND;TZID=America/New_York:20240316T130000
DTSTAMP:20260424T124641
CREATED:20240227T023337Z
LAST-MODIFIED:20240228T051037Z
UID:3364-1710583200-1710594000@www.jdbcreationsbyjoshua.com
SUMMARY:Greenfield Winter Farmers Market
DESCRIPTION:Come and see my beautiful Handcrafted jewelry at the once a month Greenfield Winter Farmers Market taking place at the Greenfield Public Library.
URL:https://www.jdbcreationsbyjoshua.com/event/greenfield-winter-farmers-market-3/
LOCATION:Greenfield Public Library\, 412 Main Street.\, Greenfield\, MA\, 01301\, United States
END:VEVENT
BEGIN:VEVENT
DTSTART;TZID=America/New_York:20240323T100000
DTEND;TZID=America/New_York:20240323T140000
DTSTAMP:20260424T124641
CREATED:20240109T004818Z
LAST-MODIFIED:20240227T022011Z
UID:3285-1711188000-1711202400@www.jdbcreationsbyjoshua.com
SUMMARY:Northampton Winter Farmer's Market
DESCRIPTION:Come and see me at the Northampton Winter Market where I will be selling my Handcrafted Jewelry. Come and check out my newest leaf earrings.
URL:https://www.jdbcreationsbyjoshua.com/event/northampton-winter-farmers-market-10/
LOCATION:Northampton Winter Market\, 67 Conz St\, Northampton\, MA\, 01060\, United States
ATTACH;FMTTYPE=image/png:https://www.jdbcreationsbyjoshua.com/wp-content/uploads/2024/01/2023-2024-winter-market-banner-2.png
END:VEVENT
END:VCALENDAR