BEGIN:VCALENDAR
VERSION:2.0
PRODID:-//JDB Creations - ECPv6.15.11//NONSGML v1.0//EN
CALSCALE:GREGORIAN
METHOD:PUBLISH
X-WR-CALNAME:JDB Creations
X-ORIGINAL-URL:https://www.jdbcreationsbyjoshua.com
X-WR-CALDESC:Events for JDB Creations
REFRESH-INTERVAL;VALUE=DURATION:PT1H
X-Robots-Tag:noindex
X-PUBLISHED-TTL:PT1H
BEGIN:VTIMEZONE
TZID:America/New_York
BEGIN:DAYLIGHT
TZOFFSETFROM:-0500
TZOFFSETTO:-0400
TZNAME:EDT
DTSTART:20230312T070000
END:DAYLIGHT
BEGIN:STANDARD
TZOFFSETFROM:-0400
TZOFFSETTO:-0500
TZNAME:EST
DTSTART:20231105T060000
END:STANDARD
BEGIN:DAYLIGHT
TZOFFSETFROM:-0500
TZOFFSETTO:-0400
TZNAME:EDT
DTSTART:20240310T070000
END:DAYLIGHT
BEGIN:STANDARD
TZOFFSETFROM:-0400
TZOFFSETTO:-0500
TZNAME:EST
DTSTART:20241103T060000
END:STANDARD
BEGIN:DAYLIGHT
TZOFFSETFROM:-0500
TZOFFSETTO:-0400
TZNAME:EDT
DTSTART:20250309T070000
END:DAYLIGHT
BEGIN:STANDARD
TZOFFSETFROM:-0400
TZOFFSETTO:-0500
TZNAME:EST
DTSTART:20251102T060000
END:STANDARD
END:VTIMEZONE
BEGIN:VEVENT
DTSTART;TZID=America/New_York:20240406T100000
DTEND;TZID=America/New_York:20240406T160000
DTSTAMP:20260424T112505
CREATED:20240218T150212Z
LAST-MODIFIED:20240328T143049Z
UID:3359-1712397600-1712419200@www.jdbcreationsbyjoshua.com
SUMMARY:Framingham Rotary Craft Fair
DESCRIPTION:Once again JDB Creations by Joshua I’ll be selling  jewelry at Keefe Tech in Framingham Massachusetts at The annual Spring Rotary Club Craft Fair.  I will have lots of new spring baby leaf earrings. Shop early all earrings are one of kind created using real leaves as a template.
URL:https://www.jdbcreationsbyjoshua.com/event/framingham-rotary-craft-fair/
ATTACH;FMTTYPE=image/jpeg:https://www.jdbcreationsbyjoshua.com/wp-content/uploads/2024/02/IMG_0916.jpeg
END:VEVENT
BEGIN:VEVENT
DTSTART;TZID=America/New_York:20240420T100000
DTEND;TZID=America/New_York:20240420T160000
DTSTAMP:20260424T112505
CREATED:20240326T162508Z
LAST-MODIFIED:20240326T163301Z
UID:3471-1713607200-1713628800@www.jdbcreationsbyjoshua.com
SUMMARY:Earth Day Townsend
DESCRIPTION:Come and Check out all my beautiful Silver Metal Clay  jewelry at the  Earth Day event in Townsend Massachusetts. For those that are not familiar with Metal Clay which I make a lot of my jewelry from\, it is made using recycled silver. Hope to see you there!
URL:https://www.jdbcreationsbyjoshua.com/event/earth-day-townsend/
LOCATION:N. Middlesex Regional High Schoool\, 19 Main St.\, Townsend\, MA\, 01469\, United States
ATTACH;FMTTYPE=image/jpeg:https://www.jdbcreationsbyjoshua.com/wp-content/uploads/2024/03/IMG_1008.jpeg
END:VEVENT
BEGIN:VEVENT
DTSTART;TZID=America/New_York:20240427T100000
DTEND;TZID=America/New_York:20240427T170000
DTSTAMP:20260424T112505
CREATED:20240108T234314Z
LAST-MODIFIED:20240314T215240Z
UID:3274-1714212000-1714237200@www.jdbcreationsbyjoshua.com
SUMMARY:Gore Place Sheep Shearing Festival
DESCRIPTION:Join me and many other Artists and Vendors at the Gore Sheepshearing Festival taking place at  GORE PLACE 52 Gore Street in Waltham\, Massachusetts just off Route 20 \nSince 1987\, this annual event has entertained guests with music\, 100+ craft and fiber artists\, demonstrations of traditional shearing and herding dogs\, and historic re-enactors on the beautiful grounds of this historic\, 50-acre estate. According to Executive Director and festival organizer Susan Robertson\, “We’re proud that the Sheepshearing Festival has become a New England spring tradition for so many. People often tell us that spring doesn’t begin until the Sheepshearing Festival!”
URL:https://www.jdbcreationsbyjoshua.com/event/gore-place-sheep-shearing-festival/
LOCATION:Gore Place\, 52 Gore St.\, Waltham\, MA\, 02453\, United States
ATTACH;FMTTYPE=image/jpeg:https://www.jdbcreationsbyjoshua.com/wp-content/uploads/2024/01/IMG_0975.jpeg
END:VEVENT
END:VCALENDAR